Package: m6Aboost Version: 1.12.0 Command: rm -rf m6Aboost.buildbin-libdir && mkdir m6Aboost.buildbin-libdir && /Users/biocbuild/BBS/utils/build-universal.sh m6Aboost_1.12.0.tar.gz /Library/Frameworks/R.framework/Resources/bin/R m6Aboost.buildbin-libdir StartedAt: 2025-02-11 13:38:37 -0500 (Tue, 11 Feb 2025) EndedAt: 2025-02-11 13:41:07 -0500 (Tue, 11 Feb 2025) EllapsedTime: 149.4 seconds RetCode: 0 Status: OK PackageFile: m6Aboost_1.12.0.tgz PackageFileSize: 574.2 KiB