Package: m6Aboost Version: 1.12.0 Command: /Library/Frameworks/R.framework/Resources/bin/R CMD build --keep-empty-dirs --no-resave-data m6Aboost StartedAt: 2025-02-10 19:57:56 -0500 (Mon, 10 Feb 2025) EndedAt: 2025-02-10 20:00:31 -0500 (Mon, 10 Feb 2025) EllapsedTime: 155.2 seconds RetCode: 0 Status: OK PackageFile: m6Aboost_1.12.0.tar.gz PackageFileSize: 759.5 KiB