Package: m6Aboost Version: 1.12.0 Command: /home/biocbuild/bbs-3.20-bioc/R/bin/R CMD check --install=check:m6Aboost.install-out.txt --library=/home/biocbuild/bbs-3.20-bioc/R/site-library --timings m6Aboost_1.12.0.tar.gz StartedAt: 2025-02-03 23:42:25 -0500 (Mon, 03 Feb 2025) EndedAt: 2025-02-03 23:47:59 -0500 (Mon, 03 Feb 2025) EllapsedTime: 333.4 seconds RetCode: 0 Status: OK CheckDir: m6Aboost.Rcheck Warnings: 0