Package: m6Aboost Version: 1.12.0 Command: /home/biocbuild/bbs-3.20-bioc/R/bin/R CMD INSTALL m6Aboost StartedAt: 2025-02-03 15:57:30 -0500 (Mon, 03 Feb 2025) EndedAt: 2025-02-03 15:58:21 -0500 (Mon, 03 Feb 2025) EllapsedTime: 51.5 seconds RetCode: 0 Status: OK