Package: m6Aboost Version: 1.12.0 Command: rm -rf m6Aboost.buildbin-libdir && mkdir m6Aboost.buildbin-libdir && F:\biocbuild\bbs-3.20-bioc\R\bin\R.exe CMD INSTALL --build --library=m6Aboost.buildbin-libdir m6Aboost_1.12.0.tar.gz StartedAt: 2025-02-04 08:49:44 -0500 (Tue, 04 Feb 2025) EndedAt: 2025-02-04 08:50:41 -0500 (Tue, 04 Feb 2025) EllapsedTime: 56.8 seconds RetCode: 0 Status: OK PackageFile: m6Aboost_1.12.0.zip PackageFileSize: 578.6 KiB