Package: m6Aboost Version: 1.12.0 Command: /home/biocbuild/R/R/bin/R CMD build --keep-empty-dirs --no-resave-data m6Aboost StartedAt: 2025-02-04 00:36:29 -0000 (Tue, 04 Feb 2025) EndedAt: 2025-02-04 00:38:02 -0000 (Tue, 04 Feb 2025) EllapsedTime: 93.0 seconds RetCode: 0 Status: OK PackageFile: m6Aboost_1.12.0.tar.gz PackageFileSize: 824.5 KiB