Package: m6Aboost Version: 1.12.0 Command: /home/biocbuild/R/R/bin/R CMD check --install=check:m6Aboost.install-out.txt --library=/home/biocbuild/R/R/site-library --no-vignettes --timings m6Aboost_1.12.0.tar.gz StartedAt: 2025-02-04 08:22:53 -0000 (Tue, 04 Feb 2025) EndedAt: 2025-02-04 08:29:13 -0000 (Tue, 04 Feb 2025) EllapsedTime: 379.6 seconds RetCode: 0 Status: WARNINGS CheckDir: m6Aboost.Rcheck Warnings: 1