Package: mCSEA Version: 1.26.2 Command: /Library/Frameworks/R.framework/Resources/bin/R CMD build --keep-empty-dirs --no-resave-data mCSEA StartedAt: 2025-02-04 02:41:52 -0500 (Tue, 04 Feb 2025) EndedAt: 2025-02-04 02:46:11 -0500 (Tue, 04 Feb 2025) EllapsedTime: 258.4 seconds RetCode: 0 Status: OK PackageFile: mCSEA_1.26.2.tar.gz PackageFileSize: 1.871 MiB