Package: mCSEA Version: 1.26.2 Command: /Library/Frameworks/R.framework/Resources/bin/R CMD check --install=check:mCSEA.install-out.txt --library=/Library/Frameworks/R.framework/Resources/library --no-vignettes --timings mCSEA_1.26.2.tar.gz StartedAt: 2025-02-12 00:15:33 -0500 (Wed, 12 Feb 2025) EndedAt: 2025-02-12 00:22:14 -0500 (Wed, 12 Feb 2025) EllapsedTime: 400.7 seconds RetCode: 0 Status: OK CheckDir: mCSEA.Rcheck Warnings: 0