Package: mCSEA Version: 1.26.2 Command: /home/biocbuild/R/R/bin/R CMD build --keep-empty-dirs --no-resave-data mCSEA StartedAt: 2025-02-11 00:32:43 -0000 (Tue, 11 Feb 2025) EndedAt: 2025-02-11 00:36:29 -0000 (Tue, 11 Feb 2025) EllapsedTime: 226.1 seconds RetCode: 0 Status: OK PackageFile: mCSEA_1.26.2.tar.gz PackageFileSize: 1.838 MiB