Package: mCSEA Version: 1.26.2 Command: /home/biocbuild/R/R/bin/R CMD check --install=check:mCSEA.install-out.txt --library=/home/biocbuild/R/R/site-library --no-vignettes --timings mCSEA_1.26.2.tar.gz StartedAt: 2025-02-04 08:29:48 -0000 (Tue, 04 Feb 2025) EndedAt: 2025-02-04 08:36:31 -0000 (Tue, 04 Feb 2025) EllapsedTime: 403.5 seconds RetCode: 0 Status: OK CheckDir: mCSEA.Rcheck Warnings: 0