Package: maSigPro Version: 1.78.0 Command: /Library/Frameworks/R.framework/Resources/bin/R CMD build --keep-empty-dirs --no-resave-data maSigPro StartedAt: 2025-02-04 02:34:10 -0500 (Tue, 04 Feb 2025) EndedAt: 2025-02-04 02:34:23 -0500 (Tue, 04 Feb 2025) EllapsedTime: 12.5 seconds RetCode: 0 Status: OK PackageFile: maSigPro_1.78.0.tar.gz PackageFileSize: 1.511 MiB