Package: maSigPro Version: 1.78.0 Command: /Library/Frameworks/R.framework/Resources/bin/R CMD INSTALL maSigPro StartedAt: 2025-02-10 15:04:39 -0500 (Mon, 10 Feb 2025) EndedAt: 2025-02-10 15:05:09 -0500 (Mon, 10 Feb 2025) EllapsedTime: 29.7 seconds RetCode: 0 Status: OK