Package: maSigPro Version: 1.78.0 Command: chmod a+r maSigPro -R && F:\biocbuild\bbs-3.20-bioc\R\bin\R.exe CMD build --keep-empty-dirs --no-resave-data maSigPro StartedAt: 2025-02-10 20:02:16 -0500 (Mon, 10 Feb 2025) EndedAt: 2025-02-10 20:02:36 -0500 (Mon, 10 Feb 2025) EllapsedTime: 20.2 seconds RetCode: 0 Status: OK PackageFile: maSigPro_1.78.0.tar.gz PackageFileSize: 1.437 MiB