Package: made4 Version: 1.80.0 Command: /Library/Frameworks/R.framework/Resources/bin/R CMD build --keep-empty-dirs --no-resave-data made4 StartedAt: 2025-01-31 02:23:24 -0500 (Fri, 31 Jan 2025) EndedAt: 2025-01-31 02:24:11 -0500 (Fri, 31 Jan 2025) EllapsedTime: 46.9 seconds RetCode: 0 Status: OK PackageFile: made4_1.80.0.tar.gz PackageFileSize: 2.509 MiB