Package: made4 Version: 1.80.0 Command: /home/biocbuild/bbs-3.20-bioc/R/bin/R CMD INSTALL made4 StartedAt: 2025-01-30 15:11:27 -0500 (Thu, 30 Jan 2025) EndedAt: 2025-01-30 15:11:48 -0500 (Thu, 30 Jan 2025) EllapsedTime: 20.6 seconds RetCode: 0 Status: OK