Package: made4 Version: 1.80.0 Command: rm -rf made4.buildbin-libdir && mkdir made4.buildbin-libdir && F:\biocbuild\bbs-3.20-bioc\R\bin\R.exe CMD INSTALL --build --library=made4.buildbin-libdir made4_1.80.0.tar.gz StartedAt: 2025-01-31 08:57:51 -0500 (Fri, 31 Jan 2025) EndedAt: 2025-01-31 08:58:37 -0500 (Fri, 31 Jan 2025) EllapsedTime: 45.9 seconds RetCode: 0 Status: OK PackageFile: made4_1.80.0.zip PackageFileSize: 1.386 MiB