Package: made4 Version: 1.80.0 Command: /home/biocbuild/R/R/bin/R CMD build --keep-empty-dirs --no-resave-data made4 StartedAt: 2025-02-04 00:37:04 -0000 (Tue, 04 Feb 2025) EndedAt: 2025-02-04 00:37:55 -0000 (Tue, 04 Feb 2025) EllapsedTime: 51.0 seconds RetCode: 0 Status: OK PackageFile: made4_1.80.0.tar.gz PackageFileSize: 1.913 MiB