Package: maftools Version: 2.22.0 Command: rm -rf maftools.buildbin-libdir && mkdir maftools.buildbin-libdir && /Users/biocbuild/BBS/utils/build-universal.sh maftools_2.22.0.tar.gz /Library/Frameworks/R.framework/Resources/bin/R maftools.buildbin-libdir StartedAt: 2025-02-05 16:28:01 -0500 (Wed, 05 Feb 2025) EndedAt: 2025-02-05 16:28:26 -0500 (Wed, 05 Feb 2025) EllapsedTime: 25.4 seconds RetCode: 0 Status: OK PackageFile: maftools_2.22.0.tgz PackageFileSize: 13.01 MiB