Package: maftools Version: 2.22.0 Command: /Library/Frameworks/R.framework/Resources/bin/R CMD build --keep-empty-dirs --no-resave-data maftools StartedAt: 2025-02-04 02:26:19 -0500 (Tue, 04 Feb 2025) EndedAt: 2025-02-04 02:30:24 -0500 (Tue, 04 Feb 2025) EllapsedTime: 245.6 seconds RetCode: 0 Status: OK PackageFile: maftools_2.22.0.tar.gz PackageFileSize: 12.34 MiB