Package: maftools Version: 2.22.0 Command: /Library/Frameworks/R.framework/Resources/bin/R CMD INSTALL maftools StartedAt: 2025-02-03 17:17:05 -0500 (Mon, 03 Feb 2025) EndedAt: 2025-02-03 17:17:24 -0500 (Mon, 03 Feb 2025) EllapsedTime: 19.8 seconds RetCode: 0 Status: OK