Package: maftools Version: 2.22.0 Command: rm -rf maftools.buildbin-libdir && mkdir maftools.buildbin-libdir && /Users/biocbuild/BBS/utils/build-universal.sh maftools_2.22.0.tar.gz /Library/Frameworks/R.framework/Resources/bin/R maftools.buildbin-libdir StartedAt: 2025-02-04 13:18:58 -0500 (Tue, 04 Feb 2025) EndedAt: 2025-02-04 13:20:21 -0500 (Tue, 04 Feb 2025) EllapsedTime: 83.5 seconds RetCode: 0 Status: OK PackageFile: maftools_2.22.0.tgz PackageFileSize: 13.11 MiB