Package: maftools Version: 2.22.0 Command: /home/biocbuild/bbs-3.20-bioc/R/bin/R CMD INSTALL maftools StartedAt: 2025-02-03 15:52:48 -0500 (Mon, 03 Feb 2025) EndedAt: 2025-02-03 15:53:07 -0500 (Mon, 03 Feb 2025) EllapsedTime: 18.9 seconds RetCode: 0 Status: OK