Package: maftools Version: 2.22.0 Command: chmod a+r maftools -R && F:\biocbuild\bbs-3.20-bioc\R\bin\R.exe CMD build --keep-empty-dirs --no-resave-data maftools StartedAt: 2025-02-03 20:05:51 -0500 (Mon, 03 Feb 2025) EndedAt: 2025-02-03 20:10:00 -0500 (Mon, 03 Feb 2025) EllapsedTime: 249.0 seconds RetCode: 0 Status: OK PackageFile: maftools_2.22.0.tar.gz PackageFileSize: 9.015 MiB