Package: maftools Version: 2.22.0 Command: F:\biocbuild\bbs-3.20-bioc\R\bin\R.exe CMD INSTALL maftools StartedAt: 2025-02-10 16:41:12 -0500 (Mon, 10 Feb 2025) EndedAt: 2025-02-10 16:42:31 -0500 (Mon, 10 Feb 2025) EllapsedTime: 79.1 seconds RetCode: 0 Status: OK