Package: maftools Version: 2.22.0 Command: /home/biocbuild/R/R/bin/R CMD build --keep-empty-dirs --no-resave-data maftools StartedAt: 2025-02-04 00:37:07 -0000 (Tue, 04 Feb 2025) EndedAt: 2025-02-04 01:17:08 -0000 (Tue, 04 Feb 2025) EllapsedTime: 2401.0 seconds RetCode: None Status: TIMEOUT PackageFile: None PackageFileSize: NA