Package: magpie Version: 1.6.0 Command: /Library/Frameworks/R.framework/Resources/bin/R CMD build --keep-empty-dirs --no-resave-data magpie StartedAt: 2025-02-11 02:32:33 -0500 (Tue, 11 Feb 2025) EndedAt: 2025-02-11 02:33:46 -0500 (Tue, 11 Feb 2025) EllapsedTime: 73.0 seconds RetCode: 0 Status: OK PackageFile: magpie_1.6.0.tar.gz PackageFileSize: 2.289 MiB