Package: magpie Version: 1.6.0 Command: /Library/Frameworks/R.framework/Resources/bin/R CMD check --install=check:magpie.install-out.txt --library=/Library/Frameworks/R.framework/Resources/library --no-vignettes --timings magpie_1.6.0.tar.gz StartedAt: 2025-02-11 23:52:25 -0500 (Tue, 11 Feb 2025) EndedAt: 2025-02-11 23:57:23 -0500 (Tue, 11 Feb 2025) EllapsedTime: 298.3 seconds RetCode: 0 Status: WARNINGS CheckDir: magpie.Rcheck Warnings: 1