Package: magpie Version: 1.6.0 Command: /Library/Frameworks/R.framework/Resources/bin/R CMD INSTALL magpie StartedAt: 2025-02-10 16:34:56 -0500 (Mon, 10 Feb 2025) EndedAt: 2025-02-10 16:36:22 -0500 (Mon, 10 Feb 2025) EllapsedTime: 85.4 seconds RetCode: 0 Status: OK