Package: magpie Version: 1.6.0 Command: /home/biocbuild/R/R/bin/R CMD build --keep-empty-dirs --no-resave-data magpie StartedAt: 2025-02-04 00:37:21 -0000 (Tue, 04 Feb 2025) EndedAt: 2025-02-04 00:38:34 -0000 (Tue, 04 Feb 2025) EllapsedTime: 73.0 seconds RetCode: 0 Status: OK PackageFile: magpie_1.6.0.tar.gz PackageFileSize: 1.693 MiB