Package: mapscape Version: 1.30.0 Command: /home/biocbuild/bbs-3.20-bioc/R/bin/R CMD build --keep-empty-dirs --no-resave-data --md5 mapscape StartedAt: 2025-02-03 18:02:49 -0500 (Mon, 03 Feb 2025) EndedAt: 2025-02-03 18:02:59 -0500 (Mon, 03 Feb 2025) EllapsedTime: 10.0 seconds RetCode: 0 Status: OK PackageFile: mapscape_1.30.0.tar.gz PackageFileSize: 4.794 MiB