Package: mapscape Version: 1.30.0 Command: rm -rf mapscape.buildbin-libdir && mkdir mapscape.buildbin-libdir && F:\biocbuild\bbs-3.20-bioc\R\bin\R.exe CMD INSTALL --build --library=mapscape.buildbin-libdir mapscape_1.30.0.tar.gz StartedAt: 2025-02-04 08:50:34 -0500 (Tue, 04 Feb 2025) EndedAt: 2025-02-04 08:50:47 -0500 (Tue, 04 Feb 2025) EllapsedTime: 13.3 seconds RetCode: 0 Status: OK PackageFile: mapscape_1.30.0.zip PackageFileSize: 4.136 MiB