Package: mapscape Version: 1.30.0 Command: chmod a+r mapscape -R && F:\biocbuild\bbs-3.20-bioc\R\bin\R.exe CMD build --keep-empty-dirs --no-resave-data mapscape StartedAt: 2025-02-10 20:01:22 -0500 (Mon, 10 Feb 2025) EndedAt: 2025-02-10 20:01:39 -0500 (Mon, 10 Feb 2025) EllapsedTime: 17.6 seconds RetCode: 0 Status: OK PackageFile: mapscape_1.30.0.tar.gz PackageFileSize: 4.795 MiB