Package: mapscape Version: 1.30.0 Command: F:\biocbuild\bbs-3.20-bioc\R\bin\R.exe CMD check --no-multiarch --install=check:mapscape.install-out.txt --library=F:\biocbuild\bbs-3.20-bioc\R\library --no-vignettes --timings mapscape_1.30.0.tar.gz StartedAt: 2025-02-11 03:13:51 -0500 (Tue, 11 Feb 2025) EndedAt: 2025-02-11 03:14:32 -0500 (Tue, 11 Feb 2025) EllapsedTime: 40.1 seconds RetCode: 0 Status: WARNINGS CheckDir: mapscape.Rcheck Warnings: 1