Package: marray Version: 1.84.0 Command: /Library/Frameworks/R.framework/Resources/bin/R CMD build --keep-empty-dirs --no-resave-data marray StartedAt: 2025-02-04 02:32:57 -0500 (Tue, 04 Feb 2025) EndedAt: 2025-02-04 02:34:14 -0500 (Tue, 04 Feb 2025) EllapsedTime: 76.7 seconds RetCode: 0 Status: OK PackageFile: marray_1.84.0.tar.gz PackageFileSize: 5.634 MiB