Package: marray Version: 1.84.0 Command: /Library/Frameworks/R.framework/Resources/bin/R CMD INSTALL marray StartedAt: 2025-02-10 15:12:12 -0500 (Mon, 10 Feb 2025) EndedAt: 2025-02-10 15:12:21 -0500 (Mon, 10 Feb 2025) EllapsedTime: 8.4 seconds RetCode: 0 Status: OK