Package: marray Version: 1.84.0 Command: /Library/Frameworks/R.framework/Resources/bin/R CMD INSTALL marray StartedAt: 2025-02-03 15:16:57 -0500 (Mon, 03 Feb 2025) EndedAt: 2025-02-03 15:17:18 -0500 (Mon, 03 Feb 2025) EllapsedTime: 21.0 seconds RetCode: 0 Status: OK