Package: marray Version: 1.84.0 Command: rm -rf marray.buildbin-libdir && mkdir marray.buildbin-libdir && F:\biocbuild\bbs-3.20-bioc\R\bin\R.exe CMD INSTALL --build --library=marray.buildbin-libdir marray_1.84.0.tar.gz StartedAt: 2025-02-11 08:47:40 -0500 (Tue, 11 Feb 2025) EndedAt: 2025-02-11 08:49:07 -0500 (Tue, 11 Feb 2025) EllapsedTime: 87.6 seconds RetCode: 0 Status: OK PackageFile: marray_1.84.0.zip PackageFileSize: 5.268 MiB