Package: marray Version: 1.84.0 Command: F:\biocbuild\bbs-3.20-bioc\R\bin\R.exe CMD INSTALL marray StartedAt: 2025-02-10 15:34:08 -0500 (Mon, 10 Feb 2025) EndedAt: 2025-02-10 15:35:31 -0500 (Mon, 10 Feb 2025) EllapsedTime: 83.1 seconds RetCode: 0 Status: OK