Package: martini Version: 1.26.0 Command: rm -rf martini.buildbin-libdir && mkdir martini.buildbin-libdir && /Users/biocbuild/BBS/utils/build-universal.sh martini_1.26.0.tar.gz /Library/Frameworks/R.framework/Resources/bin/R martini.buildbin-libdir StartedAt: 2025-02-05 16:29:19 -0500 (Wed, 05 Feb 2025) EndedAt: 2025-02-05 16:29:44 -0500 (Wed, 05 Feb 2025) EllapsedTime: 24.7 seconds RetCode: 0 Status: OK PackageFile: martini_1.26.0.tgz PackageFileSize: 700.1 KiB