Package: martini Version: 1.26.0 Command: /Library/Frameworks/R.framework/Resources/bin/R CMD check --install=check:martini.install-out.txt --library=/Library/Frameworks/R.framework/Resources/library --no-vignettes --timings martini_1.26.0.tar.gz StartedAt: 2025-02-05 00:35:20 -0500 (Wed, 05 Feb 2025) EndedAt: 2025-02-05 00:38:16 -0500 (Wed, 05 Feb 2025) EllapsedTime: 175.4 seconds RetCode: 0 Status: OK CheckDir: martini.Rcheck Warnings: 0