Package: martini Version: 1.26.0 Command: /Library/Frameworks/R.framework/Resources/bin/R CMD INSTALL martini StartedAt: 2025-01-30 17:35:35 -0500 (Thu, 30 Jan 2025) EndedAt: 2025-01-30 17:35:57 -0500 (Thu, 30 Jan 2025) EllapsedTime: 21.6 seconds RetCode: 0 Status: OK