Package: martini Version: 1.26.0 Command: /home/biocbuild/bbs-3.20-bioc/R/bin/R CMD INSTALL martini StartedAt: 2025-02-03 15:56:37 -0500 (Mon, 03 Feb 2025) EndedAt: 2025-02-03 15:56:59 -0500 (Mon, 03 Feb 2025) EllapsedTime: 21.3 seconds RetCode: 0 Status: OK