Package: martini Version: 1.26.0 Command: /home/biocbuild/R/R/bin/R CMD INSTALL martini StartedAt: 2025-02-03 21:11:22 -0000 (Mon, 03 Feb 2025) EndedAt: 2025-02-03 21:11:49 -0000 (Mon, 03 Feb 2025) EllapsedTime: 27.2 seconds RetCode: 0 Status: OK