Package: massiR Version: 1.42.0 Command: /Library/Frameworks/R.framework/Resources/bin/R CMD build --keep-empty-dirs --no-resave-data massiR StartedAt: 2025-02-04 02:34:57 -0500 (Tue, 04 Feb 2025) EndedAt: 2025-02-04 02:35:09 -0500 (Tue, 04 Feb 2025) EllapsedTime: 12.3 seconds RetCode: 0 Status: OK PackageFile: massiR_1.42.0.tar.gz PackageFileSize: 1.115 MiB