Package: massiR Version: 1.42.0 Command: /Library/Frameworks/R.framework/Resources/bin/R CMD build --keep-empty-dirs --no-resave-data massiR StartedAt: 2025-02-03 20:02:06 -0500 (Mon, 03 Feb 2025) EndedAt: 2025-02-03 20:02:25 -0500 (Mon, 03 Feb 2025) EllapsedTime: 19.3 seconds RetCode: 0 Status: OK PackageFile: massiR_1.42.0.tar.gz PackageFileSize: 1.115 MiB