Package: massiR Version: 1.42.0 Command: /home/biocbuild/bbs-3.20-bioc/R/bin/R CMD build --keep-empty-dirs --no-resave-data --md5 massiR StartedAt: 2025-02-10 17:56:07 -0500 (Mon, 10 Feb 2025) EndedAt: 2025-02-10 17:56:14 -0500 (Mon, 10 Feb 2025) EllapsedTime: 7.0 seconds RetCode: 0 Status: OK PackageFile: massiR_1.42.0.tar.gz PackageFileSize: 1.116 MiB