Package: massiR Version: 1.42.0 Command: rm -rf massiR.buildbin-libdir && mkdir massiR.buildbin-libdir && F:\biocbuild\bbs-3.20-bioc\R\bin\R.exe CMD INSTALL --build --library=massiR.buildbin-libdir massiR_1.42.0.tar.gz StartedAt: 2025-02-04 08:51:03 -0500 (Tue, 04 Feb 2025) EndedAt: 2025-02-04 08:51:17 -0500 (Tue, 04 Feb 2025) EllapsedTime: 14.4 seconds RetCode: 0 Status: OK PackageFile: massiR_1.42.0.zip PackageFileSize: 1.064 MiB