Package: massiR Version: 1.42.0 Command: F:\biocbuild\bbs-3.20-bioc\R\bin\R.exe CMD check --no-multiarch --install=check:massiR.install-out.txt --library=F:\biocbuild\bbs-3.20-bioc\R\library --no-vignettes --timings massiR_1.42.0.tar.gz StartedAt: 2025-02-04 03:21:04 -0500 (Tue, 04 Feb 2025) EndedAt: 2025-02-04 03:21:53 -0500 (Tue, 04 Feb 2025) EllapsedTime: 49.6 seconds RetCode: 0 Status: OK CheckDir: massiR.Rcheck Warnings: 0