Package: mastR Version: 1.6.0 Command: /Library/Frameworks/R.framework/Resources/bin/R CMD check --install=check:mastR.install-out.txt --library=/Library/Frameworks/R.framework/Resources/library --no-vignettes --timings mastR_1.6.0.tar.gz StartedAt: 2025-02-04 05:50:20 -0500 (Tue, 04 Feb 2025) EndedAt: 2025-02-04 06:11:16 -0500 (Tue, 04 Feb 2025) EllapsedTime: 1256.2 seconds RetCode: 0 Status: OK CheckDir: mastR.Rcheck Warnings: 0